BEGIN:VCALENDAR
VERSION:2.0
PRODID:-//eventon.com NONSGML v1.0//EN
CALSCALE:GREGORIAN
METHOD:PUBLISH
BEGIN:VEVENT
UID:69e62ed987ef2
DTSTAMP:20260420T134913Z
DTSTART:20260524T090000Z
DTEND:20260524T215900Z
LOCATION:CGK Winchoten &quot;De Rank&quot; Pottebakkerstaat 4\,  Winschoten
SUMMARY:Kerkdienst met ds. A. Hoekman
DESCRIPTION:Kerkdienst met ds. A. Hoekman uit Hongerige Wolf. Eerste Pinkst
 erdag. Naast via kerkomroep www.kerkomroep.nl  worden de diensten ook me
 t beeld via Youtube uitgezonden. Zie hiervoor de knop op de voorpagina van 
 de website. \nhttps://cgkwinschoten.nl/events/kerkdienst-met-ds-a-hoekman-
 11/
URL:https://cgkwinschoten.nl/events/kerkdienst-met-ds-a-hoekman-11/
END:VEVENT
END:VCALENDAR