BEGIN:VCALENDAR
VERSION:2.0
PRODID:-//eventon.com NONSGML v1.0//EN
CALSCALE:GREGORIAN
METHOD:PUBLISH
BEGIN:VEVENT
UID:69e752f646d7f
DTSTAMP:20260421T103534Z
DTSTART:20260517T073000Z
DTEND:20260517T215900Z
LOCATION:CGK Winchoten &quot;De Rank&quot; Pottebakkerstaat 4\,  Winschoten
SUMMARY:Kerkdienst met ds. M. van Reenen
DESCRIPTION:Kerkdienst met ds. M. van Reenen uit Vledderveen. Naast via ker
 komroep www.kerkomroep.nl  worden de diensten ook met beeld via Youtube 
 uitgezonden. Zie hiervoor de knop op de voorpagina van de website. \nhttps
 ://cgkwinschoten.nl/events/kerkdienst-met-ds-m-van-reenen/
URL:https://cgkwinschoten.nl/events/kerkdienst-met-ds-m-van-reenen/
END:VEVENT
END:VCALENDAR