BEGIN:VCALENDAR
VERSION:2.0
PRODID:-//eventon.com NONSGML v1.0//EN
CALSCALE:GREGORIAN
METHOD:PUBLISH
BEGIN:VEVENT
UID:69e62e879bd19
DTSTAMP:20260420T134751Z
DTSTART:20260514T073000Z
DTEND:20260514T215900Z
LOCATION:CGK Winchoten &quot;De Rank&quot; Pottebakkerstaat 4\,  Winschoten
SUMMARY:Kerkdienst met br. J. Wubs
DESCRIPTION:Kerkdienst met br. J. Wubs. Hemelvaartsdag. Naast via kerkomroe
 p www.kerkomroep.nl  worden de diensten ook met beeld via Youtube uitgez
 onden. Zie hiervoor de knop op de voorpagina van de website. \nhttps://cgk
 winschoten.nl/events/kerkdienst-met-br-j-wubs-24/
URL:https://cgkwinschoten.nl/events/kerkdienst-met-br-j-wubs-24/
END:VEVENT
END:VCALENDAR